Workbook

Sheet Preface
A1: LECTURE NO: X0403(자동 변환 차트 만들기)
B3: Homepage// | C3: =HYPERLINK("http://www.iExceller.com","www.iExceller.com") -> www.iExceller.com
B4: 최초 작성일: | C4: 38786
B5: 최종 수정일: | C5: 38786
B6: 자료 작성자: | C6: Exceller(권현욱, exceller@amorepacific.com)
B9: //질문 하나
B10: 안녕하세요!
B11: 종합정산 시트에서 그룹 단추에서 콤보 상자를 클릭하면 내용에 따라서
B12: 그래프가 바뀌도록 하고 싶습니다. 콤보상자에 바로 지정해서 가능한지요?
B13: 아니면 VBA로 처리해야 하는지요?
B16: 아래 버튼을 눌러서 질문 내용을 살펴보고 오시기 바랍니다.
B43: Exceller가 어떻게 수정을 했나 살펴볼까요? 다음 버튼을 눌러서 해당 시트로
B44: 이동하신 다음, 옵션 버튼을 차례로 눌러 보시기 바랍니다.
B67: 잘 되지요?
B69: (1) 그룹 상자 내의 어떤 옵션 버튼이 선택되었는지를 알아내기 위해 G9 셀에
B70: Index 함수를 사용하여 다음과 같은 수식을 작성합니다.
A72: =INDEX(B12:E12,F9)
B74: (2) 원래의 표로는 원하는 형태의 차트를 만들 수 없으므로 차트를 작성하기 위한
B75: 별도의 테이블을 작성합니다. 물론 이 경우에도 데이터를 직접 입력하는 것은
B76: 아니고 함수를 이용하여 선택된 항목에 해당되는 데이터만을 자동으로 가져옵니다.
B77: '종합정산_수정' 시트의 B41 셀에는 이런 수식이 사용되었습니다.
A79: =INDEX(INDIRECT($B$40),MATCH(A41,$A$13:$A$33,0))
B81: 앞의 경우와 마찬가지로 Index 함수를 사용하였습니다만, Indirect와 Match 함수를
B82: 추가로 사용했군요.
B84: (3) '종합정산_수정' 시트의 A40:B60 영역의 데이터를 이용하여 차트를 작성합니다.
B86: 이제 그룹 상자 내의 항목을 차례로 선택해 보세요.
B87: 어떤 항목을 선택하였느냐에 따라 차트의 계열값도 자동으로 변경될 것입니다.
B88: 다만, 총 근로시간의 경우에는 사용자 지정 서식을 사용하였으므로 이 부분은
B89: 제대로 표현되지 않습니다.
B91: 다음에 또…
B94: 컨텐츠를 제공해 주실 분은 여기를 클릭하세요!
B95: 보내주신 자료는 다음과 같이 HTML 파일 형태로 만들어서 보다 많은 분들과
B96: 공유할 수 있도록 해 드리겠습니다.
B97: <완성 예제>를 보시려면 여기를 클릭하세요!
... B113: 활용 예제와 30가지 엑셀 알짜 활용 팁을 소개하고 있다.
F115: - <YES 24 책 소개> 중에서
B124: <엑셀 실무활용 노하우 260>, 디지털북스
B125: 그동안의 엑셀과 VBA 강좌 내용을 근간으로 한 따라하기 형식의 책입니다.
B126: 즉시 활용 가능한 100% 실무활용 예제들로 구성되어 있으며, 부록으로 제공되는 CD에는
B127: 그동안의 全 강좌 내용들이 모두 수록되어 있습니다.
B129: [인터넷 교보문고] 2005년 06월 3주 주간 컴퓨터/인터넷 4위
B130: [인터넷 교보문고] 2005년 06월 4주 주간 컴퓨터/인터넷 9위
B131: [인터넷 교보문고] 2005년 08월 1주 주간 컴퓨터/인터넷 9위
B133: <VBA로 엑셀에 날개달기>, 디지털북스
B134: 엑셀을 어느 정도 다루어 본 사용자 중에서 매크로나 VBA에 관심을 가지고 있으며,
B135: 업무에 제대로 활용하고자 하는 분들을 위한 책입니다. 또한 VBA가 좋다는 것을 알고
B136: 배우려고 여러 차례 시도를 하였으나 매번 좌절을 겪은 분들, 앞으로 Spreadsheet
B137: Developer를 꿈꾸는 학생들에게도 도움이 되리라 생각합니다.
... B142: 없도다'라고 생각하시는 분들도 참고하시기 바랍니다.

Sheet 근무시간표
A1: 2 월 반 출 입 기 록 표
A2: 일자 성명 | B2: 38718 | C2: =B2+1 -> 38719 | D2: =C2+1 -> 38720 | E2: =D2+1 -> 38721 | F2: =E2+1 -> 38722 | G2: =F2+1 -> 38723 | H2: =G2+1 -> 38724 | I2: =H2+1 -> 38725 | J2: =I2+1 -> 38726 | ... AF2: =AE2+1 -> 38748 | AG2: 합 계
A3: 이성훈 | B3: 0.72916667 | C3: 0.72916667 | D3: 0.72916667 | E3: 0.72916667 | G3: 0.72916667 | H3: 0.72916667 | I3: 0.72916667 | J3: 0.79166667 | K3: 0.72916667 | L3: 0.72916667 | N3: 0.72916667 | O3: 0.72916667 | P3: 0.72916667 | Q3: 0.72916667 | R3: 0.72916667 | AG3: =SUM(B3:AF3)-COUNT(B3:AF3)*AI3 -> 6.3125 | AI3: 0.3125
A4: 남상선 | B4: 0.72916667 | C4: 0.72916667 | D4: 0.72916667 | E4: 0.72916667 | G4: 0.72916667 | H4: 0.72916667 | I4: 0.72916667 | J4: 0.79166667 | K4: 0.72916667 | L4: 0.72916667 | N4: 0.72916667 | O4: 0.72916667 | P4: 0.72916667 | Q4: 0.72916667 | R4: 0.72916667 | AG4: =SUM(B4:AF4)-COUNT(B4:AF4)*AI4 -> 6.3125 | AI4: 0.3125
A5: 장동수 | B5: 0.72916667 | C5: 0.72916667 | D5: 0.72916667 | E5: 0.72916667 | G5: 0.72916667 | H5: 0.72916667 | I5: 0.72916667 | J5: 0.72916667 | K5: 0.72916667 | L5: 0.72916667 | N5: 0.72916667 | O5: 0.72916667 | P5: 0.72916667 | Q5: 0.72916667 | R5: 0.72916667 | AG5: =SUM(B5:AF5)-COUNT(B5:AF5)*AI5 -> 6.25 | AI5: 0.3125
A6: 김종호 | B6: 0.72916667 | C6: 0.72916667 | D6: 0.72916667 | E6: 0.72916667 | G6: 0.72916667 | H6: 0.72916667 | I6: 0.72916667 | J6: 0.72916667 | K6: 0.72916667 | L6: 0.72916667 | N6: 0.72916667 | O6: 0.72916667 | P6: 0.72916667 | Q6: 0.72916667 | R6: 0.72916667 | AG6: =SUM(B6:AF6)-COUNT(B6:AF6)*AI6 -> 6.25 | AI6: 0.3125
A7: 오현우 | B7: 0.72916667 | C7: 0.72916667 | D7: 0.72916667 | E7: 0.72916667 | G7: 0.72916667 | H7: 0.72916667 | I7: 0.72916667 | J7: 0.72916667 | K7: 0.72916667 | L7: 0.72916667 | N7: 0.72916667 | O7: 0.72916667 | P7: 0.72916667 | Q7: 0.72916667 | R7: 0.72916667 | AG7: =SUM(B7:AF7)-COUNT(B7:AF7)*AI7 -> 6.25 | AI7: 0.3125
A8: 유영조 | B8: 0.72916667 | C8: 0.72916667 | D8: 0.72916667 | E8: 0.72916667 | G8: 0.72916667 | H8: 0.72916667 | I8: 0.72916667 | J8: 0.72916667 | K8: 0.72916667 | L8: 0.72916667 | N8: 0.72916667 | O8: 0.72916667 | P8: 0.72916667 | Q8: 0.72916667 | R8: 0.72916667 | AG8: =SUM(B8:AF8)-COUNT(B8:AF8)*AI8 -> 6.25 | AI8: 0.3125
A9: 최호철 | B9: 0.72916667 | C9: 0.72916667 | D9: 0.72916667 | E9: 0.72916667 | G9: 0.72916667 | H9: 0.72916667 | I9: 0.72916667 | J9: 0.72916667 | K9: 0.72916667 | L9: 0.72916667 | N9: 0.72916667 | O9: 0.72916667 | P9: 0.72916667 | Q9: 0.72916667 | R9: 0.72916667 | AG9: =SUM(B9:AF9)-COUNT(B9:AF9)*AI9 -> 6.25 | AI9: 0.3125
A10: 이재일 | B10: 0.72916667 | C10: 0.72916667 | D10: 0.72916667 | E10: 0.72916667 | G10: 0.72916667 | H10: 0.72916667 | I10: 0.72916667 | J10: 0.72916667 | K10: 0.72916667 | L10: 0.72916667 | N10: 0.72916667 | O10: 0.72916667 | P10: 0.72916667 | Q10: 0.72916667 | R10: 0.76111111 | AG10: =SUM(B10:AF10)-COUNT(B10:AF10)*AI10 -> 6.2819444 | AI10: 0.3125
A11: 조유현 | B11: 0.72916667 | C11: 0.72916667 | D11: 0.72916667 | E11: 0.72916667 | G11: 0.72916667 | H11: 0.72916667 | I11: 0.72916667 | J11: 0.72916667 | K11: 0.72916667 | L11: 0.72916667 | N11: 0.72916667 | O11: 0.72916667 | P11: 0.72916667 | Q11: 0.72916667 | R11: 0.72916667 | AG11: =SUM(B11:AF11)-COUNT(B11:AF11)*AI11 -> 6.25 | AI11: 0.3125
A12: 진병수 | B12: 0.72916667 | C12: 0.72916667 | D12: 0.72916667 | E12: 0.72916667 | G12: 0.72916667 | H12: 0.72916667 | I12: 0.72916667 | J12: 0.72916667 | K12: 0.72916667 | L12: 0.72916667 | N12: 0.72916667 | O12: 0.72916667 | P12: 0.72916667 | Q12: 0.72916667 | R12: 0.72916667 | AG12: =SUM(B12:AF12)-COUNT(B12:AF12)*AI12 -> 6.25 | AI12: 0.3125
A13: 장의균 | B13: 0.72916667 | C13: 0.72916667 | D13: 0.72916667 | E13: 0.72916667 | G13: 0.72916667 | H13: 0.72916667 | I13: 0.72916667 | J13: 0.79166667 | K13: 0.72916667 | L13: 0.72916667 | N13: 0.72916667 | O13: 0.72916667 | P13: 0.72916667 | Q13: 0.72916667 | R13: 0.72916667 | AG13: =SUM(B13:AF13)-COUNT(B13:AF13)*AI13 -> 6.3125 | AI13: 0.3125
A14: 유관열 | B14: 0.72916667 | C14: 0.72916667 | D14: 0.72916667 | E14: 0.72916667 | G14: 0.72916667 | H14: 0.72916667 | I14: 0.72916667 | J14: 0.72916667 | K14: 0.72916667 | L14: 0.72916667 | N14: 0.72916667 | O14: 0.72916667 | P14: 0.72916667 | Q14: 0.72916667 | R14: 0.72916667 | AG14: =SUM(B14:AF14)-COUNT(B14:AF14)*AI14 -> 6.25 | AI14: 0.3125
A15: 이현교 | B15: 0.72916667 | C15: 0.72916667 | D15: 0.72916667 | E15: 0.72916667 | G15: 0.72916667 | H15: 0.72916667 | I15: 0.72916667 | J15: 0.72916667 | K15: 0.72916667 | L15: 0.72916667 | N15: 0.72916667 | O15: 0.72916667 | P15: 0.72916667 | Q15: 0.72916667 | R15: 0.72916667 | AG15: =SUM(B15:AF15)-COUNT(B15:AF15)*AI15 -> 6.25 | AI15: 0.3125
AG16: =SUM(B16:AF16)-COUNT(B16:AF16)*AI16 -> 0 | AI16: 0.3125
AG17: =SUM(B17:AF17)-COUNT(B17:AF17)*AI17 -> 0 | AI17: 0.3125
AG18: =SUM(B18:AF18)-COUNT(B18:AF18)*AI18 -> 0 | AI18: 0.3125
AG19: =SUM(B19:AF19)-COUNT(B19:AF19)*AI19 -> 0 | AI19: 0.3125
AG20: =SUM(B20:AF20)-COUNT(B20:AF20)*AI20 -> 0 | AI20: 0.3125

Sheet 수거량
A1: 2 월 반 출 입 기 록 표
A2: 일자 성명 | B2: 38718 | C2: =B2+1 -> 38719 | D2: =C2+1 -> 38720 | E2: =D2+1 -> 38721 | F2: =E2+1 -> 38722 | G2: =F2+1 -> 38723 | H2: =G2+1 -> 38724 | I2: =H2+1 -> 38725 | J2: =I2+1 -> 38726 | ... AF2: =AE2+1 -> 38748 | AG2: 합 계
A3: 이성훈 | G3: 32 | I3: 48 | J3: 16 | L3: 64 | O3: 80 | P3: 48 | R3: 48 | AG3: =SUM(B3:AF3) -> 336 | AI3: 0.3125 | AL3: =SUM(C3:AG3) -> 672 | AM3: =SUM(D3:AH3) -> 672
A4: 남상선 | I4: 48 | J4: 80 | L4: 64 | P4: 48 | R4: 48 | AG4: =SUM(B4:AF4) -> 288 | AI4: 0.3125
A5: 장동수 | L5: 80 | R5: 48 | AG5: =SUM(B5:AF5) -> 128 | AI5: 0.3125
A6: 김종호 | L6: 64 | P6: 64 | R6: 48 | AG6: =SUM(B6:AF6) -> 176 | AI6: 0.3125
A7: 오현우 | G7: 32 | I7: 48 | J7: 16 | L7: 64 | P7: 64 | R7: 48 | AG7: =SUM(B7:AF7) -> 272 | AI7: 0.3125
A8: 유영조 | N8: 10 | O8: 50 | R8: 20 | AG8: =SUM(B8:AF8) -> 80 | AI8: 0.3125
A9: 최호철 | N9: 10 | O9: 50 | Q9: 10 | R9: 40 | AG9: =SUM(B9:AF9) -> 110 | AI9: 0.3125
A10: 이재일 | J10: 10 | O10: 50 | R10: 20 | AG10: =SUM(B10:AF10) -> 80 | AI10: 0.3125
A11: 조유현 | C11: 60 | D11: 40 | G11: 80 | I11: 40 | J11: 60 | K11: 40 | L11: 60 | N11: 100 | O11: 20 | P11: 20 | Q11: 60 | R11: 80 | AG11: =SUM(B11:AF11) -> 660 | AI11: 0.3125
A12: 진병수 | B12: 20 | D12: 40 | E12: 20 | G12: 60 | I12: 60 | J12: 80 | L12: 20 | N12: 40 | O12: 40 | R12: 60 | AG12: =SUM(B12:AF12) -> 440 | AI12: 0.3125
A13: 장의균 | D13: 60 | G13: 40 | I13: 80 | J13: 100 | K13: 40 | L13: 40 | N13: 40 | O13: 20 | P13: 60 | Q13: 60 | R13: 80 | AG13: =SUM(B13:AF13) -> 620 | AI13: 0.3125
A14: 유관열 | D14: 20 | G14: 40 | J14: 40 | R14: 40 | AG14: =SUM(B14:AF14) -> 140 | AI14: 0.3125
A15: 이현교 | C15: 60 | D15: 100 | G15: 60 | H15: 20 | I15: 40 | J15: 100 | K15: 20 | N15: 100 | P15: 20 | Q15: 40 | R15: 60 | AG15: =SUM(B15:AF15) -> 620 | AI15: 0.3125
AG16: =SUM(B16:AF16) -> 0 | AI16: 0.3125
AG17: =SUM(B17:AF17) -> 0 | AI17: 0.3125
AG18: =SUM(B18:AF18) -> 0 | AI18: 0.3125
AG19: =SUM(B19:AF19) -> 0 | AI19: 0.3125
AG20: =SUM(B20:AF20) -> 0 | AI20: 0.3125

Sheet 종합정산_질문하신분
A1: 출 퇴 근 시 간 및 반 입 량 내 역 서
A7: 4
G8: =구분하기 -> <평균(반입)량>
A12: 성명 | B12: 평균근로시간 | C12: 총근로시간 | D12: 총수거(반입)량 | E12: 평균(반입)량
A13: =IF(근무시간표!A3="","",근무시간표!A3) -> 이성훈 | B13: =IF(C13="","",C13/COUNT(근무시간표!B3:AF3)) -> 0.42083333 | C13: =IF(OR(A13="",근무시간표!AG3<=0),"",VLOOKUP(A13,근무시간표!$A$3:$AG$22,33,FALSE())) -> 6.3125 | D13: =IF(OR(A13="",수거량!AG3<=0),"",VLOOKUP(A13,수거량!$A$3:$AG$22,33,FALSE())) -> 336 | E13: =IF(D13="","",D13/COUNT(수거량!B3:AF3)) -> 48
A14: =IF(근무시간표!A4="","",근무시간표!A4) -> 남상선 | B14: =IF(C14="","",C14/COUNT(근무시간표!B4:AF4)) -> 0.42083333 | C14: =IF(OR(A14="",근무시간표!AG4<=0),"",VLOOKUP(A14,근무시간표!$A$3:$AG$22,33,FALSE())) -> 6.3125 | D14: =IF(OR(A14="",수거량!AG4<=0),"",VLOOKUP(A14,수거량!$A$3:$AG$22,33,FALSE())) -> 288 | E14: =IF(D14="","",D14/COUNT(수거량!B4:AF4)) -> 57.6
A15: =IF(근무시간표!A5="","",근무시간표!A5) -> 장동수 | B15: =IF(C15="","",C15/COUNT(근무시간표!B5:AF5)) -> 0.41666667 | C15: =IF(OR(A15="",근무시간표!AG5<=0),"",VLOOKUP(A15,근무시간표!$A$3:$AG$22,33,FALSE())) -> 6.25 | D15: =IF(OR(A15="",수거량!AG5<=0),"",VLOOKUP(A15,수거량!$A$3:$AG$22,33,FALSE())) -> 128 | E15: =IF(D15="","",D15/COUNT(수거량!B5:AF5)) -> 64
A16: =IF(근무시간표!A6="","",근무시간표!A6) -> 김종호 | B16: =IF(C16="","",C16/COUNT(근무시간표!B6:AF6)) -> 0.41666667 | C16: =IF(OR(A16="",근무시간표!AG6<=0),"",VLOOKUP(A16,근무시간표!$A$3:$AG$22,33,FALSE())) -> 6.25 | D16: =IF(OR(A16="",수거량!AG6<=0),"",VLOOKUP(A16,수거량!$A$3:$AG$22,33,FALSE())) -> 176 | E16: =IF(D16="","",D16/COUNT(수거량!B6:AF6)) -> 58.666667
A17: =IF(근무시간표!A7="","",근무시간표!A7) -> 오현우 | B17: =IF(C17="","",C17/COUNT(근무시간표!B7:AF7)) -> 0.41666667 | C17: =IF(OR(A17="",근무시간표!AG7<=0),"",VLOOKUP(A17,근무시간표!$A$3:$AG$22,33,FALSE())) -> 6.25 | D17: =IF(OR(A17="",수거량!AG7<=0),"",VLOOKUP(A17,수거량!$A$3:$AG$22,33,FALSE())) -> 272 | E17: =IF(D17="","",D17/COUNT(수거량!B7:AF7)) -> 45.333333
A18: =IF(근무시간표!A8="","",근무시간표!A8) -> 유영조 | B18: =IF(C18="","",C18/COUNT(근무시간표!B8:AF8)) -> 0.41666667 | C18: =IF(OR(A18="",근무시간표!AG8<=0),"",VLOOKUP(A18,근무시간표!$A$3:$AG$22,33,FALSE())) -> 6.25 | D18: =IF(OR(A18="",수거량!AG8<=0),"",VLOOKUP(A18,수거량!$A$3:$AG$22,33,FALSE())) -> 80 | E18: =IF(D18="","",D18/COUNT(수거량!B8:AF8)) -> 26.666667
A19: =IF(근무시간표!A9="","",근무시간표!A9) -> 최호철 | B19: =IF(C19="","",C19/COUNT(근무시간표!B9:AF9)) -> 0.41666667 | C19: =IF(OR(A19="",근무시간표!AG9<=0),"",VLOOKUP(A19,근무시간표!$A$3:$AG$22,33,FALSE())) -> 6.25 | D19: =IF(OR(A19="",수거량!AG9<=0),"",VLOOKUP(A19,수거량!$A$3:$AG$22,33,FALSE())) -> 110 | E19: =IF(D19="","",D19/COUNT(수거량!B9:AF9)) -> 27.5
A20: =IF(근무시간표!A10="","",근무시간표!A10) -> 이재일 | B20: =IF(C20="","",C20/COUNT(근무시간표!B10:AF10)) -> 0.4187963 | C20: =IF(OR(A20="",근무시간표!AG10<=0),"",VLOOKUP(A20,근무시간표!$A$3:$AG$22,33,FALSE())) -> 6.2819444 | D20: =IF(OR(A20="",수거량!AG10<=0),"",VLOOKUP(A20,수거량!$A$3:$AG$22,33,FALSE())) -> 80 | E20: =IF(D20="","",D20/COUNT(수거량!B10:AF10)) -> 26.666667
A21: =IF(근무시간표!A11="","",근무시간표!A11) -> 조유현 | B21: =IF(C21="","",C21/COUNT(근무시간표!B11:AF11)) -> 0.41666667 | C21: =IF(OR(A21="",근무시간표!AG11<=0),"",VLOOKUP(A21,근무시간표!$A$3:$AG$22,33,FALSE())) -> 6.25 | D21: =IF(OR(A21="",수거량!AG11<=0),"",VLOOKUP(A21,수거량!$A$3:$AG$22,33,FALSE())) -> 660 | E21: =IF(D21="","",D21/COUNT(수거량!B11:AF11)) -> 55
A22: =IF(근무시간표!A12="","",근무시간표!A12) -> 진병수 | B22: =IF(C22="","",C22/COUNT(근무시간표!B12:AF12)) -> 0.41666667 | C22: =IF(OR(A22="",근무시간표!AG12<=0),"",VLOOKUP(A22,근무시간표!$A$3:$AG$22,33,FALSE())) -> 6.25 | D22: =IF(OR(A22="",수거량!AG12<=0),"",VLOOKUP(A22,수거량!$A$3:$AG$22,33,FALSE())) -> 440 | E22: =IF(D22="","",D22/COUNT(수거량!B12:AF12)) -> 44
A23: =IF(근무시간표!A13="","",근무시간표!A13) -> 장의균 | B23: =IF(C23="","",C23/COUNT(근무시간표!B13:AF13)) -> 0.42083333 | C23: =IF(OR(A23="",근무시간표!AG13<=0),"",VLOOKUP(A23,근무시간표!$A$3:$AG$22,33,FALSE())) -> 6.3125 | D23: =IF(OR(A23="",수거량!AG13<=0),"",VLOOKUP(A23,수거량!$A$3:$AG$22,33,FALSE())) -> 620 | E23: =IF(D23="","",D23/COUNT(수거량!B13:AF13)) -> 56.363636
A24: =IF(근무시간표!A14="","",근무시간표!A14) -> 유관열 | B24: =IF(C24="","",C24/COUNT(근무시간표!B14:AF14)) -> 0.41666667 | C24: =IF(OR(A24="",근무시간표!AG14<=0),"",VLOOKUP(A24,근무시간표!$A$3:$AG$22,33,FALSE())) -> 6.25 | D24: =IF(OR(A24="",수거량!AG14<=0),"",VLOOKUP(A24,수거량!$A$3:$AG$22,33,FALSE())) -> 140 | E24: =IF(D24="","",D24/COUNT(수거량!B14:AF14)) -> 35
A25: =IF(근무시간표!A15="","",근무시간표!A15) -> 이현교 | B25: =IF(C25="","",C25/COUNT(근무시간표!B15:AF15)) -> 0.41666667 | C25: =IF(OR(A25="",근무시간표!AG15<=0),"",VLOOKUP(A25,근무시간표!$A$3:$AG$22,33,FALSE())) -> 6.25 | D25: =IF(OR(A25="",수거량!AG15<=0),"",VLOOKUP(A25,수거량!$A$3:$AG$22,33,FALSE())) -> 620 | E25: =IF(D25="","",D25/COUNT(수거량!B15:AF15)) -> 56.363636
A26: =IF(근무시간표!A16="","",근무시간표!A16) | B26: =IF(C26="","",C26/COUNT(근무시간표!B16:AF16)) | D26: =IF(OR(A26="",수거량!AG16<=0),"",VLOOKUP(A26,수거량!$A$3:$AG$22,33,FALSE())) | E26: =IF(D26="","",D26/COUNT(수거량!B16:AF16))
A27: =IF(근무시간표!A17="","",근무시간표!A17) | B27: =IF(C27="","",C27/COUNT(근무시간표!B17:AF17)) | D27: =IF(OR(A27="",수거량!AG17<=0),"",VLOOKUP(A27,수거량!$A$3:$AG$22,33,FALSE())) | E27: =IF(D27="","",D27/COUNT(수거량!B17:AF17))
A28: =IF(근무시간표!A18="","",근무시간표!A18) | B28: =IF(C28="","",C28/COUNT(근무시간표!B18:AF18)) | D28: =IF(OR(A28="",수거량!AG18<=0),"",VLOOKUP(A28,수거량!$A$3:$AG$22,33,FALSE())) | E28: =IF(D28="","",D28/COUNT(수거량!B18:AF18))
A29: =IF(근무시간표!A19="","",근무시간표!A19) | B29: =IF(C29="","",C29/COUNT(근무시간표!B19:AF19)) | D29: =IF(OR(A29="",수거량!AG19<=0),"",VLOOKUP(A29,수거량!$A$3:$AG$22,33,FALSE())) | E29: =IF(D29="","",D29/COUNT(수거량!B19:AF19))
A30: =IF(근무시간표!A20="","",근무시간표!A20) | B30: =IF(C30="","",C30/COUNT(근무시간표!B20:AF20)) | D30: =IF(OR(A30="",수거량!AG20<=0),"",VLOOKUP(A30,수거량!$A$3:$AG$22,33,FALSE())) | E30: =IF(D30="","",D30/COUNT(수거량!B20:AF20))
A31: =IF(근무시간표!A21="","",근무시간표!A21) | B31: =IF(C31="","",C31/COUNT(근무시간표!B21:AF21)) | D31: =IF(OR(A31="",수거량!AG21<=0),"",VLOOKUP(A31,수거량!$A$3:$AG$22,33,FALSE())) | E31: =IF(D31="","",D31/COUNT(수거량!B21:AF21))
A32: =IF(근무시간표!A22="","",근무시간표!A22) | B32: =IF(C32="","",C32/COUNT(근무시간표!B22:AF22)) | D32: =IF(OR(A32="",수거량!AG22<=0),"",VLOOKUP(A32,수거량!$A$3:$AG$22,33,FALSE())) | E32: =IF(D32="","",D32/COUNT(수거량!B22:AF22))
A33: =IF(근무시간표!A23="","",근무시간표!A23) | B33: =IF(C33="","",C33/COUNT(근무시간표!B23:AF23)) | D33: =IF(OR(A33="",수거량!AG23<=0),"",VLOOKUP(A33,수거량!$A$3:$AG$22,33,FALSE())) | E33: =IF(D33="","",D33/COUNT(수거량!B23:AF23))
A34: 합계(평균) | B34: =AVERAGE(B13:B33) -> 0.41779202 | C34: =SUM(C13:C33) -> 81.469444 | D34: =SUM(D13:D33) -> 3950 | E34: =AVERAGE(E13:E33) -> 46.243124

Sheet 종합정산_수정
A1: 출 퇴 근 시 간 및 반 입 량 내 역 서
A7: 2
F9: 1 | G9: =INDEX(B12:E12,F9) -> 평균근로시간
A12: 이름 | B12: 평균근로시간 | C12: 총근로시간 | D12: 총수거량 | E12: 평균량
A13: =IF(근무시간표!A3="","",근무시간표!A3) -> 이성훈 | B13: =IF(C13="","",C13/COUNT(근무시간표!B3:AF3)) -> 0.42083333 | C13: =IF(OR(A13="",근무시간표!AG3<=0),"",VLOOKUP(A13,근무시간표!$A$3:$AG$22,33,FALSE())) -> 6.3125 | D13: =IF(OR(A13="",수거량!AG3<=0),"",VLOOKUP(A13,수거량!$A$3:$AG$22,33,FALSE())) -> 336 | E13: =IF(D13="","",D13/COUNT(수거량!B3:AF3)) -> 48
A14: =IF(근무시간표!A4="","",근무시간표!A4) -> 남상선 | B14: =IF(C14="","",C14/COUNT(근무시간표!B4:AF4)) -> 0.42083333 | C14: =IF(OR(A14="",근무시간표!AG4<=0),"",VLOOKUP(A14,근무시간표!$A$3:$AG$22,33,FALSE())) -> 6.3125 | D14: =IF(OR(A14="",수거량!AG4<=0),"",VLOOKUP(A14,수거량!$A$3:$AG$22,33,FALSE())) -> 288 | E14: =IF(D14="","",D14/COUNT(수거량!B4:AF4)) -> 57.6
A15: =IF(근무시간표!A5="","",근무시간표!A5) -> 장동수 | B15: =IF(C15="","",C15/COUNT(근무시간표!B5:AF5)) -> 0.41666667 | C15: =IF(OR(A15="",근무시간표!AG5<=0),"",VLOOKUP(A15,근무시간표!$A$3:$AG$22,33,FALSE())) -> 6.25 | D15: =IF(OR(A15="",수거량!AG5<=0),"",VLOOKUP(A15,수거량!$A$3:$AG$22,33,FALSE())) -> 128 | E15: =IF(D15="","",D15/COUNT(수거량!B5:AF5)) -> 64
A16: =IF(근무시간표!A6="","",근무시간표!A6) -> 김종호 | B16: =IF(C16="","",C16/COUNT(근무시간표!B6:AF6)) -> 0.41666667 | C16: =IF(OR(A16="",근무시간표!AG6<=0),"",VLOOKUP(A16,근무시간표!$A$3:$AG$22,33,FALSE())) -> 6.25 | D16: =IF(OR(A16="",수거량!AG6<=0),"",VLOOKUP(A16,수거량!$A$3:$AG$22,33,FALSE())) -> 176 | E16: =IF(D16="","",D16/COUNT(수거량!B6:AF6)) -> 58.666667
A17: =IF(근무시간표!A7="","",근무시간표!A7) -> 오현우 | B17: =IF(C17="","",C17/COUNT(근무시간표!B7:AF7)) -> 0.41666667 | C17: =IF(OR(A17="",근무시간표!AG7<=0),"",VLOOKUP(A17,근무시간표!$A$3:$AG$22,33,FALSE())) -> 6.25 | D17: =IF(OR(A17="",수거량!AG7<=0),"",VLOOKUP(A17,수거량!$A$3:$AG$22,33,FALSE())) -> 272 | E17: =IF(D17="","",D17/COUNT(수거량!B7:AF7)) -> 45.333333
A18: =IF(근무시간표!A8="","",근무시간표!A8) -> 유영조 | B18: =IF(C18="","",C18/COUNT(근무시간표!B8:AF8)) -> 0.41666667 | C18: =IF(OR(A18="",근무시간표!AG8<=0),"",VLOOKUP(A18,근무시간표!$A$3:$AG$22,33,FALSE())) -> 6.25 | D18: =IF(OR(A18="",수거량!AG8<=0),"",VLOOKUP(A18,수거량!$A$3:$AG$22,33,FALSE())) -> 80 | E18: =IF(D18="","",D18/COUNT(수거량!B8:AF8)) -> 26.666667
A19: =IF(근무시간표!A9="","",근무시간표!A9) -> 최호철 | B19: =IF(C19="","",C19/COUNT(근무시간표!B9:AF9)) -> 0.41666667 | C19: =IF(OR(A19="",근무시간표!AG9<=0),"",VLOOKUP(A19,근무시간표!$A$3:$AG$22,33,FALSE())) -> 6.25 | D19: =IF(OR(A19="",수거량!AG9<=0),"",VLOOKUP(A19,수거량!$A$3:$AG$22,33,FALSE())) -> 110 | E19: =IF(D19="","",D19/COUNT(수거량!B9:AF9)) -> 27.5
A20: =IF(근무시간표!A10="","",근무시간표!A10) -> 이재일 | B20: =IF(C20="","",C20/COUNT(근무시간표!B10:AF10)) -> 0.4187963 | C20: =IF(OR(A20="",근무시간표!AG10<=0),"",VLOOKUP(A20,근무시간표!$A$3:$AG$22,33,FALSE())) -> 6.2819444 | D20: =IF(OR(A20="",수거량!AG10<=0),"",VLOOKUP(A20,수거량!$A$3:$AG$22,33,FALSE())) -> 80 | E20: =IF(D20="","",D20/COUNT(수거량!B10:AF10)) -> 26.666667
A21: =IF(근무시간표!A11="","",근무시간표!A11) -> 조유현 | B21: =IF(C21="","",C21/COUNT(근무시간표!B11:AF11)) -> 0.41666667 | C21: =IF(OR(A21="",근무시간표!AG11<=0),"",VLOOKUP(A21,근무시간표!$A$3:$AG$22,33,FALSE())) -> 6.25 | D21: =IF(OR(A21="",수거량!AG11<=0),"",VLOOKUP(A21,수거량!$A$3:$AG$22,33,FALSE())) -> 660 | E21: =IF(D21="","",D21/COUNT(수거량!B11:AF11)) -> 55
A22: =IF(근무시간표!A12="","",근무시간표!A12) -> 진병수 | B22: =IF(C22="","",C22/COUNT(근무시간표!B12:AF12)) -> 0.41666667 | C22: =IF(OR(A22="",근무시간표!AG12<=0),"",VLOOKUP(A22,근무시간표!$A$3:$AG$22,33,FALSE())) -> 6.25 | D22: =IF(OR(A22="",수거량!AG12<=0),"",VLOOKUP(A22,수거량!$A$3:$AG$22,33,FALSE())) -> 440 | E22: =IF(D22="","",D22/COUNT(수거량!B12:AF12)) -> 44
A23: =IF(근무시간표!A13="","",근무시간표!A13) -> 장의균 | B23: =IF(C23="","",C23/COUNT(근무시간표!B13:AF13)) -> 0.42083333 | C23: =IF(OR(A23="",근무시간표!AG13<=0),"",VLOOKUP(A23,근무시간표!$A$3:$AG$22,33,FALSE())) -> 6.3125 | D23: =IF(OR(A23="",수거량!AG13<=0),"",VLOOKUP(A23,수거량!$A$3:$AG$22,33,FALSE())) -> 620 | E23: =IF(D23="","",D23/COUNT(수거량!B13:AF13)) -> 56.363636
A24: =IF(근무시간표!A14="","",근무시간표!A14) -> 유관열 | B24: =IF(C24="","",C24/COUNT(근무시간표!B14:AF14)) -> 0.41666667 | C24: =IF(OR(A24="",근무시간표!AG14<=0),"",VLOOKUP(A24,근무시간표!$A$3:$AG$22,33,FALSE())) -> 6.25 | D24: =IF(OR(A24="",수거량!AG14<=0),"",VLOOKUP(A24,수거량!$A$3:$AG$22,33,FALSE())) -> 140 | E24: =IF(D24="","",D24/COUNT(수거량!B14:AF14)) -> 35
A25: =IF(근무시간표!A15="","",근무시간표!A15) -> 이현교 | B25: =IF(C25="","",C25/COUNT(근무시간표!B15:AF15)) -> 0.41666667 | C25: =IF(OR(A25="",근무시간표!AG15<=0),"",VLOOKUP(A25,근무시간표!$A$3:$AG$22,33,FALSE())) -> 6.25 | D25: =IF(OR(A25="",수거량!AG15<=0),"",VLOOKUP(A25,수거량!$A$3:$AG$22,33,FALSE())) -> 620 | E25: =IF(D25="","",D25/COUNT(수거량!B15:AF15)) -> 56.363636
A26: =IF(근무시간표!A16="","",근무시간표!A16) | B26: =IF(C26="","",C26/COUNT(근무시간표!B16:AF16)) | D26: =IF(OR(A26="",수거량!AG16<=0),"",VLOOKUP(A26,수거량!$A$3:$AG$22,33,FALSE())) | E26: =IF(D26="","",D26/COUNT(수거량!B16:AF16))
A27: =IF(근무시간표!A17="","",근무시간표!A17) | B27: =IF(C27="","",C27/COUNT(근무시간표!B17:AF17)) | D27: =IF(OR(A27="",수거량!AG17<=0),"",VLOOKUP(A27,수거량!$A$3:$AG$22,33,FALSE())) | E27: =IF(D27="","",D27/COUNT(수거량!B17:AF17))
A28: =IF(근무시간표!A18="","",근무시간표!A18) | B28: =IF(C28="","",C28/COUNT(근무시간표!B18:AF18)) | D28: =IF(OR(A28="",수거량!AG18<=0),"",VLOOKUP(A28,수거량!$A$3:$AG$22,33,FALSE())) | E28: =IF(D28="","",D28/COUNT(수거량!B18:AF18))
A29: =IF(근무시간표!A19="","",근무시간표!A19) | B29: =IF(C29="","",C29/COUNT(근무시간표!B19:AF19)) | D29: =IF(OR(A29="",수거량!AG19<=0),"",VLOOKUP(A29,수거량!$A$3:$AG$22,33,FALSE())) | E29: =IF(D29="","",D29/COUNT(수거량!B19:AF19))
A30: =IF(근무시간표!A20="","",근무시간표!A20) | B30: =IF(C30="","",C30/COUNT(근무시간표!B20:AF20)) | D30: =IF(OR(A30="",수거량!AG20<=0),"",VLOOKUP(A30,수거량!$A$3:$AG$22,33,FALSE())) | E30: =IF(D30="","",D30/COUNT(수거량!B20:AF20))
A31: =IF(근무시간표!A21="","",근무시간표!A21) | B31: =IF(C31="","",C31/COUNT(근무시간표!B21:AF21)) | D31: =IF(OR(A31="",수거량!AG21<=0),"",VLOOKUP(A31,수거량!$A$3:$AG$22,33,FALSE())) | E31: =IF(D31="","",D31/COUNT(수거량!B21:AF21))
A32: =IF(근무시간표!A22="","",근무시간표!A22) | B32: =IF(C32="","",C32/COUNT(근무시간표!B22:AF22)) | D32: =IF(OR(A32="",수거량!AG22<=0),"",VLOOKUP(A32,수거량!$A$3:$AG$22,33,FALSE())) | E32: =IF(D32="","",D32/COUNT(수거량!B22:AF22))
A33: =IF(근무시간표!A23="","",근무시간표!A23) | B33: =IF(C33="","",C33/COUNT(근무시간표!B23:AF23)) | D33: =IF(OR(A33="",수거량!AG23<=0),"",VLOOKUP(A33,수거량!$A$3:$AG$22,33,FALSE())) | E33: =IF(D33="","",D33/COUNT(수거량!B23:AF23))
A34: 합계(평균) | B34: =AVERAGE(B13:B33) -> 0.41779202 | C34: =SUM(C13:C33) -> 81.469444 | D34: =SUM(D13:D33) -> 3950 | E34: =AVERAGE(E13:E33) -> 46.243124
B40: =INDEX(B12:E12,F9) -> 평균근로시간
A41: =IF(근무시간표!A3="","",근무시간표!A3) -> 이성훈 | B41: =INDEX(INDIRECT($B$40),MATCH(A41,$A$13:$A$33,0)) -> 0.42083333
A42: =IF(근무시간표!A4="","",근무시간표!A4) -> 남상선 | B42: =INDEX(INDIRECT($B$40),MATCH(A42,$A$13:$A$33,0)) -> 0.42083333
A43: =IF(근무시간표!A5="","",근무시간표!A5) -> 장동수 | B43: =INDEX(INDIRECT($B$40),MATCH(A43,$A$13:$A$33,0)) -> 0.41666667
A44: =IF(근무시간표!A6="","",근무시간표!A6) -> 김종호 | B44: =INDEX(INDIRECT($B$40),MATCH(A44,$A$13:$A$33,0)) -> 0.41666667
A45: =IF(근무시간표!A7="","",근무시간표!A7) -> 오현우 | B45: =INDEX(INDIRECT($B$40),MATCH(A45,$A$13:$A$33,0)) -> 0.41666667
A46: =IF(근무시간표!A8="","",근무시간표!A8) -> 유영조 | B46: =INDEX(INDIRECT($B$40),MATCH(A46,$A$13:$A$33,0)) -> 0.41666667
A47: =IF(근무시간표!A9="","",근무시간표!A9) -> 최호철 | B47: =INDEX(INDIRECT($B$40),MATCH(A47,$A$13:$A$33,0)) -> 0.41666667
A48: =IF(근무시간표!A10="","",근무시간표!A10) -> 이재일 | B48: =INDEX(INDIRECT($B$40),MATCH(A48,$A$13:$A$33,0)) -> 0.4187963
A49: =IF(근무시간표!A11="","",근무시간표!A11) -> 조유현 | B49: =INDEX(INDIRECT($B$40),MATCH(A49,$A$13:$A$33,0)) -> 0.41666667
A50: =IF(근무시간표!A12="","",근무시간표!A12) -> 진병수 | B50: =INDEX(INDIRECT($B$40),MATCH(A50,$A$13:$A$33,0)) -> 0.41666667
A51: =IF(근무시간표!A13="","",근무시간표!A13) -> 장의균 | B51: =INDEX(INDIRECT($B$40),MATCH(A51,$A$13:$A$33,0)) -> 0.42083333
A52: =IF(근무시간표!A14="","",근무시간표!A14) -> 유관열 | B52: =INDEX(INDIRECT($B$40),MATCH(A52,$A$13:$A$33,0)) -> 0.41666667
... A61: =IF(근무시간표!A23="","",근무시간표!A23) | B61: =INDEX(INDIRECT($B$40),MATCH(A61,$A$13:$A$33,0))
